BEGIN:VCALENDAR
VERSION:2.0
PRODID:-//https://www.okkenbroek.net///NONSGML kigkonsult.se iCalcreator 2.10.15//
METHOD:PUBLISH
BEGIN:VEVENT
UID:20260425T163554CEST-7704xgbVEa@https://www.okkenbroek.net/
DTSTAMP:20260425T143554Z
DESCRIPTION:Gezellig met z'n allen Koersbal spelen https://www.okkenbroek.n
 et/component/rseventspro/evenement/1518-koersbal?Itemid=101
DTSTART:20240328T090000Z
DTEND:20240328T103000Z
LOCATION:Noaberhuus Okkenbroek (Oerdijk 222\, 7435 PL Okkenbroek\, Nederlan
 d)
SUMMARY:Koersbal
URL:https://www.okkenbroek.net/component/rseventspro/evenement/1518-koersba
 l?Itemid=101
END:VEVENT
END:VCALENDAR
