BEGIN:VCALENDAR
VERSION:2.0
PRODID:-//https://www.okkenbroek.net///NONSGML kigkonsult.se iCalcreator 2.10.15//
METHOD:PUBLISH
BEGIN:VEVENT
UID:20260425T185434CEST-8143dh22Xc@https://www.okkenbroek.net/
DTSTAMP:20260425T165434Z
DESCRIPTION:Gezellig met z'n allen Koersbal spelen https://www.okkenbroek.n
 et/component/rseventspro/evenement/1529-koersbal?Itemid=101
DTSTART:20240613T080000Z
DTEND:20240613T093000Z
LOCATION:Noaberhuus Okkenbroek (Oerdijk 222\, 7435 PL Okkenbroek\, Nederlan
 d)
SUMMARY:Koersbal
URL:https://www.okkenbroek.net/component/rseventspro/evenement/1529-koersba
 l?Itemid=101
END:VEVENT
END:VCALENDAR
