BEGIN:VCALENDAR
VERSION:2.0
PRODID:-//https://www.okkenbroek.net///NONSGML kigkonsult.se iCalcreator 2.10.15//
METHOD:PUBLISH
BEGIN:VEVENT
UID:20260421T164546CEST-061776VtFH@https://www.okkenbroek.net/
DTSTAMP:20260421T144546Z
DESCRIPTION:Kopij voor de Okkenbroeker koerier kunt u doorgeven totuiterlij
 k zondagavond 7 april 2024 bij: redactie@okkenbroek.net.Wilt u dat dit ook
  op de website wordt geplaatst\, dan dit graag erbij vermelden.\nDe volgen
 de koerier komt begin september 2024 weer uit. https://www.okkenbroek.net/
 component/rseventspro/evenement/1579-uiterste-inleverdata-kopij-voor-okken
 broeker-koerier?Itemid=101
DTSTART:20240407T160000Z
DTEND:20240407T163000Z
LOCATION:Okkenbroek ()
SUMMARY:Uiterste inleverdata kopij voor Okkenbroeker koerier
URL:https://www.okkenbroek.net/component/rseventspro/evenement/1579-uiterst
 e-inleverdata-kopij-voor-okkenbroeker-koerier?Itemid=101
END:VEVENT
END:VCALENDAR
