BEGIN:VCALENDAR
VERSION:2.0
PRODID:-//https://www.okkenbroek.net///NONSGML kigkonsult.se iCalcreator 2.10.15//
METHOD:PUBLISH
BEGIN:VEVENT
UID:20260421T164240CEST-2948nioI2S@https://www.okkenbroek.net/
DTSTAMP:20260421T144240Z
DESCRIPTION:Expositie 't NoaberhuusATELIER 't SchilderdearntjeDatum: vanaf 
 Ma 27/05 t/m Do 29/08 2024Tijdstip: Ma Wo 09.00-16.00 Di Do Vr 09.00 -17.3
 0 https://www.okkenbroek.net/component/rseventspro/evenement/1588-expositi
 e-t-noaberhuus?Itemid=101
DTSTART;VALUE=DATE:20240527
LOCATION:Noaberhuus Okkenbroek (Oerdijk 222\, 7435 PL Okkenbroek\, Nederlan
 d)
SUMMARY:Expositie 't Noaberhuus
URL:https://www.okkenbroek.net/component/rseventspro/evenement/1588-exposit
 ie-t-noaberhuus?Itemid=101
END:VEVENT
END:VCALENDAR
