BEGIN:VCALENDAR
VERSION:2.0
PRODID:-//https://www.okkenbroek.net///NONSGML kigkonsult.se iCalcreator 2.10.15//
METHOD:PUBLISH
BEGIN:VEVENT
UID:20260421T164837CEST-62691cjV6o@https://www.okkenbroek.net/
DTSTAMP:20260421T144837Z
DESCRIPTION:Van vrijdag 5 juli t/m zondag 7 juli is het Okkenbroeks Feest. 
 Het volledige programma staat op www.okkenbroeksfeest.nl. https://www.okke
 nbroek.net/component/rseventspro/evenement/1594-okkenbroeks-feest?Itemid=1
 01
DTSTART;VALUE=DATE:20240705
LOCATION:Okkenbroek ()
SUMMARY:Okkenbroeks feest
URL:https://www.okkenbroek.net/component/rseventspro/evenement/1594-okkenbr
 oeks-feest?Itemid=101
END:VEVENT
END:VCALENDAR
