BEGIN:VCALENDAR
VERSION:2.0
PRODID:-//https://www.okkenbroek.net///NONSGML kigkonsult.se iCalcreator 2.10.15//
METHOD:PUBLISH
BEGIN:VEVENT
UID:20260421T164534CEST-7715f3bVL0@https://www.okkenbroek.net/
DTSTAMP:20260421T144534Z
DESCRIPTION:De 'Freek Kleiboer Fietstocht'\, 'De 200 van Okkenbroek'\, en e
 en gravelrit(en) in de omgeving van Okkenbroek! https://www.okkenbroek.net
 /component/rseventspro/evenement/1743-okkenbroek-fietst?Itemid=101
DTSTART;VALUE=DATE:20250907
LOCATION:Okkenbroek ()
SUMMARY:Okkenbroek fietst
URL:https://www.okkenbroek.net/component/rseventspro/evenement/1743-okkenbr
 oek-fietst?Itemid=101
END:VEVENT
END:VCALENDAR
