BEGIN:VCALENDAR
VERSION:2.0
PRODID:-//https://www.okkenbroek.net///NONSGML kigkonsult.se iCalcreator 2.10.15//
METHOD:PUBLISH
BEGIN:VEVENT
UID:20260423T193100CEST-6362gCsUUe@https://www.okkenbroek.net/
DTSTAMP:20260423T173100Z
DESCRIPTION:Gezellig samen koffie drinken https://www.okkenbroek.net/compon
 ent/rseventspro/evenement/1808-koffie-drinken?Itemid=101
DTSTART:20261124T083000Z
DTEND:20261124T100000Z
LOCATION:Noaberhuus Okkenbroek (Oerdijk 222\, 7435 PL Okkenbroek\, Nederlan
 d)
SUMMARY:Koffie drinken
URL:https://www.okkenbroek.net/component/rseventspro/evenement/1808-koffie-
 drinken?Itemid=101
END:VEVENT
END:VCALENDAR
