BEGIN:VCALENDAR
VERSION:2.0
PRODID:-//https://www.okkenbroek.net///NONSGML kigkonsult.se iCalcreator 2.10.15//
METHOD:PUBLISH
BEGIN:VEVENT
UID:20260422T001933CEST-8007dUwKc6@https://www.okkenbroek.net/
DTSTAMP:20260421T221933Z
DESCRIPTION:Samen koersbal spelen\, met vooraf koffie https://www.okkenbroe
 k.net/component/rseventspro/evenement/1854-koersbal?Itemid=101
DTSTART:20260910T073000Z
DTEND:20260910T093000Z
LOCATION:Noaberhuus Okkenbroek (Oerdijk 222\, 7435 PL Okkenbroek\, Nederlan
 d)
SUMMARY:Koersbal
URL:https://www.okkenbroek.net/component/rseventspro/evenement/1854-koersba
 l?Itemid=101
END:VEVENT
END:VCALENDAR
