BEGIN:VCALENDAR
VERSION:2.0
PRODID:-//https://www.okkenbroek.net///NONSGML kigkonsult.se iCalcreator 2.10.15//
METHOD:PUBLISH
BEGIN:VEVENT
UID:20260421T214830CEST-0841aJSsRD@https://www.okkenbroek.net/
DTSTAMP:20260421T194830Z
DESCRIPTION:Samen koersbal spelen\, met vooraf koffie https://www.okkenbroe
 k.net/component/rseventspro/evenement/1860-koersbal?Itemid=101
DTSTART:20261022T073000Z
DTEND:20261022T093000Z
LOCATION:Noaberhuus Okkenbroek (Oerdijk 222\, 7435 PL Okkenbroek\, Nederlan
 d)
SUMMARY:Koersbal
URL:https://www.okkenbroek.net/component/rseventspro/evenement/1860-koersba
 l?Itemid=101
END:VEVENT
END:VCALENDAR
