BEGIN:VCALENDAR
VERSION:2.0
PRODID:-//https://www.okkenbroek.net///NONSGML kigkonsult.se iCalcreator 2.10.15//
METHOD:PUBLISH
BEGIN:VEVENT
UID:20260421T213109CEST-61312mGebW@https://www.okkenbroek.net/
DTSTAMP:20260421T193109Z
DESCRIPTION:Samen koersbal spelen\, met vooraf koffie https://www.okkenbroe
 k.net/component/rseventspro/evenement/1868-koersbal?Itemid=101
DTSTART:20261217T083000Z
DTEND:20261217T103000Z
LOCATION:Noaberhuus Okkenbroek (Oerdijk 222\, 7435 PL Okkenbroek\, Nederlan
 d)
SUMMARY:Koersbal
URL:https://www.okkenbroek.net/component/rseventspro/evenement/1868-koersba
 l?Itemid=101
END:VEVENT
END:VCALENDAR
