BEGIN:VCALENDAR
VERSION:2.0
PRODID:-//https://www.okkenbroek.net///NONSGML kigkonsult.se iCalcreator 2.10.15//
METHOD:PUBLISH
BEGIN:VEVENT
UID:20260421T100933CEST-6958oj80KG@https://www.okkenbroek.net/
DTSTAMP:20260421T080933Z
DESCRIPTION:Welkom bij Koersbal.\nEr is vooraf\, vanaf 9.30 koffie drinken 
 voor iedereen.\n https://www.okkenbroek.net/component/rseventspro/evenemen
 t/941-koersbal?Itemid=101
DTSTART:20220616T080000Z
DTEND:20220616T093000Z
LOCATION:huiskamer noaberhuus  (Oerdijk 222\, 7435 PL Okkenbroek\, Nederlan
 d)
SUMMARY:Koersbal
URL:https://www.okkenbroek.net/component/rseventspro/evenement/941-koersbal
 ?Itemid=101
END:VEVENT
END:VCALENDAR
